BEGIN:VCALENDAR
VERSION:2.0
PRODID:-//Healthy Living + Travel - ECPv6.15.20//NONSGML v1.0//EN
CALSCALE:GREGORIAN
METHOD:PUBLISH
X-ORIGINAL-URL:https://healthylivingandtravel.com
X-WR-CALDESC:Events for Healthy Living + Travel
REFRESH-INTERVAL;VALUE=DURATION:PT1H
X-Robots-Tag:noindex
X-PUBLISHED-TTL:PT1H
BEGIN:VTIMEZONE
TZID:America/Vancouver
BEGIN:DAYLIGHT
TZOFFSETFROM:-0800
TZOFFSETTO:-0700
TZNAME:PDT
DTSTART:20240310T100000
END:DAYLIGHT
BEGIN:STANDARD
TZOFFSETFROM:-0700
TZOFFSETTO:-0800
TZNAME:PST
DTSTART:20241103T090000
END:STANDARD
BEGIN:DAYLIGHT
TZOFFSETFROM:-0800
TZOFFSETTO:-0700
TZNAME:PDT
DTSTART:20250309T100000
END:DAYLIGHT
BEGIN:STANDARD
TZOFFSETFROM:-0700
TZOFFSETTO:-0800
TZNAME:PST
DTSTART:20251102T090000
END:STANDARD
BEGIN:DAYLIGHT
TZOFFSETFROM:-0800
TZOFFSETTO:-0700
TZNAME:PDT
DTSTART:20260308T100000
END:DAYLIGHT
BEGIN:STANDARD
TZOFFSETFROM:-0700
TZOFFSETTO:-0800
TZNAME:PST
DTSTART:20261101T090000
END:STANDARD
END:VTIMEZONE
BEGIN:VEVENT
DTSTART;VALUE=DATE:20250118
DTEND;VALUE=DATE:20250127
DTSTAMP:20260419T182532
CREATED:20221122T080046Z
LAST-MODIFIED:20241021T213821Z
UID:10000072-1737158400-1737935999@healthylivingandtravel.com
SUMMARY:Barrett-Jackson Car Auction Scottsdale
DESCRIPTION:Established in 1971 and headquartered in Scottsdale\, Arizona\, Barrett-Jackson\, is the leader in collector car auctions and automotFor over 50 years\, enthusiasts from all over the world have flocked to the Barrett-Jackson collector car auctions\, named America’s No. 1 Attraction for Car Lovers in the 2019 USA Today Readers’ Choice Contest. \nWidely regarded as a barometer of the collector car industry\, the auctions have evolved over the years into world-class automotive lifestyle events where thousands of the world’s most sought-after\, unique\, and valuable automobiles cross the block in front of a global audience ‒ in-person and on live national and international television. Barrett-Jackson produces The World’s Greatest Collector Car Auctions in Scottsdale\, Arizona; Palm Beach\, Florida; Las Vegas\, Nevada\, and Houston\, Texas. \nIn addition to the millions watching the events via live television coverage\, over 500\,000 people are in attendance at all four auctions\, looking to witness auction action at its best\, capture the car of their dreams\, mingle with celebrities\, experience adrenaline-pumping thrill rides in the latest vehicles from America’s top automakers or shop in the vast Exhibitor Marketplace.
URL:https://healthylivingandtravel.com/calendar/barrett-jackson-car-auction-scottsdale/
LOCATION:Westworld of Scottsdale\, 16601 North Pima Road\, Scottsdale\, AZ\, 85260\, United States
CATEGORIES:Automobile
ATTACH;FMTTYPE=image/jpeg:https://healthylivingandtravel.com/wp-content/uploads/2017/10/Barrett-Jackson-Scottsdale-Healthy-Living-Travel.jpeg
END:VEVENT
BEGIN:VEVENT
DTSTART;VALUE=DATE:20250123
DTEND;VALUE=DATE:20250128
DTSTAMP:20260419T182532
CREATED:20230224T201609Z
LAST-MODIFIED:20241024T213934Z
UID:10000095-1737590400-1738022399@healthylivingandtravel.com
SUMMARY:Wellness Weekend at Oak Bay Beach Hotel\, Victoria
DESCRIPTION:Start the New Year at the edge of the Salish Sea in Victoria\, British Columbia\, for the Oak Bay Beach Hotel’s annual Wellness Weekend with Catherine Roscoe Barr. Step away from nonstop busyness and into a space to refocus on yourself. Catherine Roscoe Barr\, BSc Neuroscience\, is a wellness coach and founder of The Life Delicious. The weekend retreat will lead participants through five in-depth modules on Mindset\, Movement\, Nutrition\, Sleep\, and Connection amidst the inspirational and sophisticated surroundings of the Oak Bay Beach Hotel. Enjoy a full complement of services and amenities\, including: \n\nFour nights’ accommodation in one of our elegantly appointed\, ocean-view guest rooms\nUnlimited\, exclusive access to our heated seaside mineral pools\, steam sauna\, and fitness studio\nNutritious and locally-inspired meals\, curated by Executive Chef Kreg Graham\nGuided group exercise\n15 succinct modules featuring the latest science across multiple wellness disciplines\nInformational sessions and discussions\nPeaceful\, personal time\nCreation of a personalized action plan for an exceptionally energized existence\nA 15% discount at The Boathouse Spa\nThe Life Delicious’ proprietary strategic plan to help you INTEGRATE + ACTIVATE what you learn\nComplimentary self-parking\, Wi-Fi\, turndown service\, and sparkling water\n\nFor more information\, visit www.thelifedelicious.ca/retreats
URL:https://healthylivingandtravel.com/calendar/wellness-weekend-at-oak-bay-beach-hotel-victoria/2025-01-23/
LOCATION:Oak Bay Beach Hotel\, Victoria\, 1175 Beach Drive\, Victoria\, BC\, V8S 2N2\, Canada
CATEGORIES:Fitness,Lifestyle
ATTACH;FMTTYPE=image/jpeg:https://healthylivingandtravel.com/wp-content/uploads/2022/10/Wellness-Weekend-Oak-Bay-Beach-Hotel-Healthy-Living-Travel.jpeg
END:VEVENT
BEGIN:VEVENT
DTSTART;VALUE=DATE:20250123
DTEND;VALUE=DATE:20250203
DTSTAMP:20260419T182532
CREATED:20221006T001210Z
LAST-MODIFIED:20241024T214311Z
UID:10000105-1737590400-1738540799@healthylivingandtravel.com
SUMMARY:Sundance Film Festival
DESCRIPTION:Founded in 1981 by Robert Redford\, the Sundance Film Festival is delivered each year by the Sundance Institute\, a nonprofit organization that provides and preserves the space for artists in film\, theatre\, and new media to create and thrive. The Sundance Film Festival is one of the largest independent festivals in the United States focused on igniting new ideas\, discovering original voices\, and building a community dedicated to independent storytelling. \n 
URL:https://healthylivingandtravel.com/calendar/sundance-film-festival/2025-01-23/
CATEGORIES:Art,Film
ATTACH;FMTTYPE=image/jpeg:https://healthylivingandtravel.com/wp-content/uploads/2016/12/Sundance-Film-Festival-Healthy-Living-Travel-1.jpg
END:VEVENT
END:VCALENDAR