BEGIN:VCALENDAR
VERSION:2.0
PRODID:-//Healthy Living + Travel - ECPv6.15.20//NONSGML v1.0//EN
CALSCALE:GREGORIAN
METHOD:PUBLISH
X-WR-CALNAME:Healthy Living + Travel
X-ORIGINAL-URL:https://healthylivingandtravel.com
X-WR-CALDESC:Events for Healthy Living + Travel
REFRESH-INTERVAL;VALUE=DURATION:PT1H
X-Robots-Tag:noindex
X-PUBLISHED-TTL:PT1H
BEGIN:VTIMEZONE
TZID:America/Vancouver
BEGIN:DAYLIGHT
TZOFFSETFROM:-0800
TZOFFSETTO:-0700
TZNAME:PDT
DTSTART:20240310T100000
END:DAYLIGHT
BEGIN:STANDARD
TZOFFSETFROM:-0700
TZOFFSETTO:-0800
TZNAME:PST
DTSTART:20241103T090000
END:STANDARD
BEGIN:DAYLIGHT
TZOFFSETFROM:-0800
TZOFFSETTO:-0700
TZNAME:PDT
DTSTART:20250309T100000
END:DAYLIGHT
BEGIN:STANDARD
TZOFFSETFROM:-0700
TZOFFSETTO:-0800
TZNAME:PST
DTSTART:20251102T090000
END:STANDARD
BEGIN:DAYLIGHT
TZOFFSETFROM:-0800
TZOFFSETTO:-0700
TZNAME:PDT
DTSTART:20260308T100000
END:DAYLIGHT
BEGIN:STANDARD
TZOFFSETFROM:-0700
TZOFFSETTO:-0800
TZNAME:PST
DTSTART:20261101T090000
END:STANDARD
END:VTIMEZONE
BEGIN:VEVENT
DTSTART;VALUE=DATE:20250413
DTEND;VALUE=DATE:20251014
DTSTAMP:20260419T071037
CREATED:20241129T163234Z
LAST-MODIFIED:20250413T155440Z
UID:10000153-1744502400-1760399999@healthylivingandtravel.com
SUMMARY:2025 World Expo\, Osaka\, Japan
DESCRIPTION:The world is coming to Japan in 2025! Expo 2025 Osaka\, Kansai promises to be a landmark event\, bringing together innovation\, culture\, and solutions to some of humanity’s most pressing challenges. Building on a legacy of transformative Expos\, this global gathering will showcase groundbreaking ideas that push the boundaries of what’s possible. \nA World Expo isn’t just an event—it’s a celebration of progress and potential. It’s where iconic inventions like the telephone\, electric cars\, and moving sidewalks were introduced. This year’s Expo carries on that tradition\, aiming to spark new innovations while addressing the United Nations’ Sustainable Development Goals (SDGs) ahead of the 2030 deadline. \nHeld 20 years after Japan’s celebrated Aichi Expo\, and more than half a century since Osaka’s iconic 1970 Expo\, Expo 2025 will highlight Japan’s vision for a better future\, including Society 5.0\, a blueprint for a smarter\, more sustainable society. With a theme centered on global collaboration and progress\, Expo 2025 Osaka will inspire visitors from every corner of the globe to dream big and act boldly for a brighter tomorrow. \nPlan your journey to Osaka now—your front-row seat to a world of innovation and inspiration awaits! \nThe World Expo will be held from April 13 to October 13\, 2025\, at Yumeshima Island and is projected to welcome 28.2 million visitors.
URL:https://healthylivingandtravel.com/calendar/2025-world-expo-osaka-japan/
CATEGORIES:Family,Lifestyle
ATTACH;FMTTYPE=image/jpeg:https://healthylivingandtravel.com/wp-content/uploads/2024/11/2025-World-Expo-Osaka-Japan-Healthy-Living-Travel.jpeg
END:VEVENT
BEGIN:VEVENT
DTSTART;VALUE=DATE:20251002
DTEND;VALUE=DATE:20251008
DTSTAMP:20260419T071037
CREATED:20250428T160927Z
LAST-MODIFIED:20250428T160928Z
UID:10000156-1759363200-1759881599@healthylivingandtravel.com
SUMMARY:Tahiti Yoga Festival
DESCRIPTION:Stretch\, Breathe\, and Shine: Tahiti’s First-Ever Yoga Festival is Here!\nFeeling a little stressed? You’re not alone — 38% of Canadians say stress is affecting their daily lives (thanks\, Ipsos!). And since April is National Stress Awareness Month\, there’s no better time to plan a little escape to paradise. \nIntroducing the first-ever Tahiti Yoga Festival\, happening October 3–6\, 2025.Think: yoga\, meditation\, healing workshops\, live music\, and beautiful Polynesian ceremonies — all set against the jaw-dropping beaches of Le Tahiti by Pearl Resorts. \nA little extra travel inspo: Canadians already love Tahiti\, with about 10\,000 visiting every year. If you needed a sign to join them\, this is it! \nFestival Highlights: \n\n\nOctober 2 & 7: Optional pre- and post-festival immersions (because more Tahiti = more joy) \n\n\nOctober 3: Opening Ceremony \n\n\nOctober 4–6: Yoga flows\, soulful workshops\, healing sessions\, music\, and local culture \n\n\nOctober 6: Magical Full Moon Closing Ceremony \n\n\nWhy You’ll Love It:Tahiti isn’t just a feast for the eyes — it’s a full-body\, soul-stirring experience.This festival isn’t about being the “perfect” yogi. It’s about feeling good\, connecting with nature\, and immersing yourself in the spirit of these magical islands. \nYou’ll be guided by inspiring teachers from around the globe and welcomed\, whether you’re a yoga pro or just starting your journey. Come for the sun\, the sea\, and the soul food — leave feeling lighter\, brighter\, and blissfully recharged. \nOne mat\, one island\, endless magic. See you in Tahiti!
URL:https://healthylivingandtravel.com/calendar/tahiti-yoga-festival/
CATEGORIES:Yoga
ATTACH;FMTTYPE=image/webp:https://healthylivingandtravel.com/wp-content/uploads/2025/04/Tahiti-Yoga-Festival-Healthy-Living-Travel.webp
END:VEVENT
BEGIN:VEVENT
DTSTART;VALUE=DATE:20251003
DTEND;VALUE=DATE:20251006
DTSTAMP:20260419T071037
CREATED:20240618T161352Z
LAST-MODIFIED:20240618T161749Z
UID:10000067-1759449600-1759708799@healthylivingandtravel.com
SUMMARY:Pacific Airshow\, Huntington Beach\, California
DESCRIPTION:The Pacific Airshow is a tentpole event on the City of Huntington Beach’s annual calendar\, drawing visitors from around the world. The headlining U.S. Air Force Thunderbirds\, fan-favorite F-22 Raptor Demonstration Team\, and A-10 Demo Team are just a few of this year’s performers returning to the event. Dozens of military and civilian performers will be announced in the lead-up to what is being lauded as the biggest Airshow yet. This event sets a new standard of customer experience and we encourage everyone to book a ticket and join us in the heart of the action. For an enhanced Huntington Beach experience\, stay at our preferred resort partner\, Pasea Hotel & Spa.
URL:https://healthylivingandtravel.com/calendar/pacific-airshow-huntington-beach-california/2025-10-03/
CATEGORIES:Aviation,Family
ATTACH;FMTTYPE=image/jpeg:https://healthylivingandtravel.com/wp-content/uploads/2024/06/Pacific-Airshow-Huntington-Beach-Healthy-Living-Travel.jpeg
END:VEVENT
END:VCALENDAR