BEGIN:VCALENDAR
VERSION:2.0
PRODID:-//Healthy Living + Travel - ECPv6.15.20//NONSGML v1.0//EN
CALSCALE:GREGORIAN
METHOD:PUBLISH
X-ORIGINAL-URL:https://healthylivingandtravel.com
X-WR-CALDESC:Events for Healthy Living + Travel
REFRESH-INTERVAL;VALUE=DURATION:PT1H
X-Robots-Tag:noindex
X-PUBLISHED-TTL:PT1H
BEGIN:VTIMEZONE
TZID:America/Vancouver
BEGIN:DAYLIGHT
TZOFFSETFROM:-0800
TZOFFSETTO:-0700
TZNAME:PDT
DTSTART:20250309T100000
END:DAYLIGHT
BEGIN:STANDARD
TZOFFSETFROM:-0700
TZOFFSETTO:-0800
TZNAME:PST
DTSTART:20251102T090000
END:STANDARD
BEGIN:DAYLIGHT
TZOFFSETFROM:-0800
TZOFFSETTO:-0700
TZNAME:PDT
DTSTART:20260308T100000
END:DAYLIGHT
BEGIN:STANDARD
TZOFFSETFROM:-0700
TZOFFSETTO:-0800
TZNAME:PST
DTSTART:20261101T090000
END:STANDARD
BEGIN:DAYLIGHT
TZOFFSETFROM:-0800
TZOFFSETTO:-0700
TZNAME:PDT
DTSTART:20270314T100000
END:DAYLIGHT
BEGIN:STANDARD
TZOFFSETFROM:-0700
TZOFFSETTO:-0800
TZNAME:PST
DTSTART:20271107T090000
END:STANDARD
BEGIN:DAYLIGHT
TZOFFSETFROM:-0800
TZOFFSETTO:-0700
TZNAME:PDT
DTSTART:20280312T100000
END:DAYLIGHT
BEGIN:STANDARD
TZOFFSETFROM:-0700
TZOFFSETTO:-0800
TZNAME:PST
DTSTART:20281105T090000
END:STANDARD
END:VTIMEZONE
BEGIN:VEVENT
DTSTART;VALUE=DATE:20261227
DTEND;VALUE=DATE:20270110
DTSTAMP:20260419T154826
CREATED:20260205T232910Z
LAST-MODIFIED:20260225T190507Z
UID:10000195-1798329600-1799539199@healthylivingandtravel.com
SUMMARY:The 24 Hours of Le Mans
DESCRIPTION:The 24 Hours of Le Mans remains the world’s oldest and most iconic endurance sports car race\, held annually since 1923 near Le Mans\, France. Widely regarded as the “Grand Prix of Endurance and Efficiency\,” it stands as one of motorsport’s most prestigious achievements and forms one part of the Triple Crown of Motorsport\, alongside the Indianapolis 500 and the Monaco Grand Prix. \nOrganized by the Automobile Club de l’Ouest\, the race takes place on the legendary Circuit de la Sarthe\, a demanding blend of closed public roads and permanent track. Teams must balance outright speed with engineering durability\, strategy\, and the ability to keep the car running for a full 24 hours. \nThe challenge is immense: even in modern racing\, a significant percentage of the field fails to reach the finish line. Mechanical strain\, weather\, night racing\, and relentless pace all contribute to the race’s reputation as one of the toughest tests in global motorsport.
URL:https://healthylivingandtravel.com/calendar/24-hours-of-le-mans-2/2026-12-27/1/
CATEGORIES:Motor Racing
ATTACH;FMTTYPE=image/jpeg:https://healthylivingandtravel.com/wp-content/uploads/2018/01/24-Hours-of-Le-Mans-Healthy-Living-Travel.jpg
END:VEVENT
END:VCALENDAR