BEGIN:VCALENDAR
VERSION:2.0
PRODID:-//Healthy Living + Travel - ECPv6.15.20//NONSGML v1.0//EN
CALSCALE:GREGORIAN
METHOD:PUBLISH
X-WR-CALNAME:Healthy Living + Travel
X-ORIGINAL-URL:https://healthylivingandtravel.com
X-WR-CALDESC:Events for Healthy Living + Travel
REFRESH-INTERVAL;VALUE=DURATION:PT1H
X-Robots-Tag:noindex
X-PUBLISHED-TTL:PT1H
BEGIN:VTIMEZONE
TZID:America/Vancouver
BEGIN:DAYLIGHT
TZOFFSETFROM:-0800
TZOFFSETTO:-0700
TZNAME:PDT
DTSTART:20200308T100000
END:DAYLIGHT
BEGIN:STANDARD
TZOFFSETFROM:-0700
TZOFFSETTO:-0800
TZNAME:PST
DTSTART:20201101T090000
END:STANDARD
BEGIN:DAYLIGHT
TZOFFSETFROM:-0800
TZOFFSETTO:-0700
TZNAME:PDT
DTSTART:20210314T100000
END:DAYLIGHT
BEGIN:STANDARD
TZOFFSETFROM:-0700
TZOFFSETTO:-0800
TZNAME:PST
DTSTART:20211107T090000
END:STANDARD
BEGIN:DAYLIGHT
TZOFFSETFROM:-0800
TZOFFSETTO:-0700
TZNAME:PDT
DTSTART:20220313T100000
END:DAYLIGHT
BEGIN:STANDARD
TZOFFSETFROM:-0700
TZOFFSETTO:-0800
TZNAME:PST
DTSTART:20221106T090000
END:STANDARD
BEGIN:DAYLIGHT
TZOFFSETFROM:-0800
TZOFFSETTO:-0700
TZNAME:PDT
DTSTART:20230312T100000
END:DAYLIGHT
BEGIN:STANDARD
TZOFFSETFROM:-0700
TZOFFSETTO:-0800
TZNAME:PST
DTSTART:20231105T090000
END:STANDARD
END:VTIMEZONE
BEGIN:VEVENT
DTSTART;VALUE=DATE:20221021
DTEND;VALUE=DATE:20221024
DTSTAMP:20260419T092552
CREATED:20220804T145454Z
LAST-MODIFIED:20220804T145454Z
UID:10000004-1666310400-1666569599@healthylivingandtravel.com
SUMMARY:Head of The Charles Regatta
DESCRIPTION:Since its inception in 1965\, The Head Of The Charles Regatta has attracted hundreds of thousands of rowers to the banks of the Charles River in Boston\, Massachusetts. Whether you’re a first-timer or a seasoned veteran\, the Regatta offers spectators a variety of activities. With dozens of divisions\, the competition features youth teams\, club teams\, collegiate teams\, and Olympic athletes. Those not competing themselves or who simply want to see what a rowing regatta is like can line the banks of the Charles or gather with other viewers on various bridges to catch the action.
URL:https://healthylivingandtravel.com/calendar/head-of-the-charles-regatta/
CATEGORIES:Rowing
ATTACH;FMTTYPE=image/jpeg:https://healthylivingandtravel.com/wp-content/uploads/2022/08/Head-of-The-Charles-Regatta-Healthy-Living-Travel.jpeg
END:VEVENT
BEGIN:VEVENT
DTSTART;VALUE=DATE:20210723
DTEND;VALUE=DATE:20210809
DTSTAMP:20260419T092552
CREATED:20200330T154318Z
LAST-MODIFIED:20200330T172742Z
UID:10000048-1626998400-1628467199@healthylivingandtravel.com
SUMMARY:2020 Summer Olympics
DESCRIPTION:The 2020 Summer Olympics\, officially the Games of the XXXII Olympiad and commonly known as Tokyo 2020\, is an upcoming international multi-sport event to be held in Tokyo\, Japan. \nFifty-six years after having organised the Olympic Games\, the Japanese capital will be hosting a Summer edition for the second time. The Games in 1964 radically transformed the country. According to the organisers of the event in 2020\, the Games of the XXXII Olympiad of the modern era will be “the most innovative ever organised\, and will rest on three fundamental principles to transform the world: striving for your personal best (achieving your personal best); accepting one another (unity in diversity); and passing on a legacy for the future (connecting to tomorrow)”. \nFor more information visit: www.olympic.org/tokyo-2020
URL:https://healthylivingandtravel.com/calendar/2020-summer-olympics/
CATEGORIES:Olympics,Sport
ATTACH;FMTTYPE=image/jpeg:https://healthylivingandtravel.com/wp-content/uploads/2020/03/2020-Summer-Olympics-Tokyo-2020-Healthy-Living-Travel.jpg
END:VEVENT
END:VCALENDAR