BEGIN:VCALENDAR
VERSION:2.0
PRODID:-//Healthy Living + Travel - ECPv6.15.20//NONSGML v1.0//EN
CALSCALE:GREGORIAN
METHOD:PUBLISH
X-WR-CALNAME:Healthy Living + Travel
X-ORIGINAL-URL:https://healthylivingandtravel.com
X-WR-CALDESC:Events for Healthy Living + Travel
REFRESH-INTERVAL;VALUE=DURATION:PT1H
X-Robots-Tag:noindex
X-PUBLISHED-TTL:PT1H
BEGIN:VTIMEZONE
TZID:America/Vancouver
BEGIN:DAYLIGHT
TZOFFSETFROM:-0800
TZOFFSETTO:-0700
TZNAME:PDT
DTSTART:20280312T100000
END:DAYLIGHT
BEGIN:STANDARD
TZOFFSETFROM:-0700
TZOFFSETTO:-0800
TZNAME:PST
DTSTART:20281105T090000
END:STANDARD
BEGIN:DAYLIGHT
TZOFFSETFROM:-0800
TZOFFSETTO:-0700
TZNAME:PDT
DTSTART:20290311T100000
END:DAYLIGHT
BEGIN:STANDARD
TZOFFSETFROM:-0700
TZOFFSETTO:-0800
TZNAME:PST
DTSTART:20291104T090000
END:STANDARD
BEGIN:DAYLIGHT
TZOFFSETFROM:-0800
TZOFFSETTO:-0700
TZNAME:PDT
DTSTART:20300310T100000
END:DAYLIGHT
BEGIN:STANDARD
TZOFFSETFROM:-0700
TZOFFSETTO:-0800
TZNAME:PST
DTSTART:20301103T090000
END:STANDARD
BEGIN:DAYLIGHT
TZOFFSETFROM:-0800
TZOFFSETTO:-0700
TZNAME:PDT
DTSTART:20310309T100000
END:DAYLIGHT
BEGIN:STANDARD
TZOFFSETFROM:-0700
TZOFFSETTO:-0800
TZNAME:PST
DTSTART:20311102T090000
END:STANDARD
END:VTIMEZONE
BEGIN:VEVENT
DTSTART;VALUE=DATE:20290926
DTEND;VALUE=DATE:20290930
DTSTAMP:20260420T043115
CREATED:20240625T002722Z
LAST-MODIFIED:20250717T174703Z
UID:10000136-1885075200-1885420799@healthylivingandtravel.com
SUMMARY:Monaco Yacht Show
DESCRIPTION:Since 1991\, the Monaco Yacht Show has been the world’s largest annual gathering of superyachts. It is a must-attend event for private owners and new clients seeking a unique immersive experience in the yachting world. \n \nThis program’s ambitious objective is to strengthen MYS’s position as the international reference show for the luxury yachting industry while offering an unforgettable experience to yacht and lifestyle enthusiasts. \n\nSince 2021\, the MYS has themed its exhibition\, notably with the Yacht Design & Innovation Hub\, the Sustainability Hub\, the Adventure Area\, and the Dockside Area\, which allows privileged access to the show’s docks for visitors interested in a yacht project. \n\n			\n				\n			\n			\n				\n			\n			\n				\n			\n		\n\nThe show will unveil an impressive fleet of 120 superyachts and megayachts available\, including the highly anticipated 2024 launches. Thanks to the exhibition of leading yachting companies\, visitors will also discover the latest lifestyle trends on board a yacht. The Dockside and Adventure areas will also offer a complete immersion into yachting and related activities. \n\n			\n				\n			\n			\n				\n			\n			\n				\n			\n		\n\nThe Monaco Yacht Show aims to provide a distinctive experience for visitors while promoting the positive reputation and growth of the yachting industry. For several years\, the industry has assumed its social responsibility with a proactive and committed approach to economic\, technological\, and environmental development\, aiming to address current societal challenges.
URL:https://healthylivingandtravel.com/calendar/monaco-yacht-show-2/2029-09-26/
CATEGORIES:Lifestyle,Yachting
ATTACH;FMTTYPE=image/jpeg:https://healthylivingandtravel.com/wp-content/uploads/2023/07/Monaco-Yacht-Show-Healthy-Living-Travel-Europe.jpeg
END:VEVENT
BEGIN:VEVENT
DTSTART;VALUE=DATE:20300131
DTEND;VALUE=DATE:20300204
DTSTAMP:20260420T043115
CREATED:20251205T230423Z
LAST-MODIFIED:20251205T230748Z
UID:10000165-1896048000-1896393599@healthylivingandtravel.com
SUMMARY:Desert Hot Springs Spa Tour & Wellness Weekend
DESCRIPTION:The beloved Spa Tour returns to Desert Hot Springs on Thursday\, January 29\, inviting guests to explore the city’s renowned boutique spas and healing hot mineral waters. Presented by the Miracle Hill Spas Association\, this special event offers rare behind-the-scenes access to spas throughout Miracle Hill\, including standout destinations like Azure Palm Hot Springs\, known for its panoramic desert views\, luxurious mineral pools\, and restorative wellness experiences. \nFrom 2–7 p.m.\, visitors can enjoy the VIP or Self-Guided Spa Tour\, meet spa professionals\, and discover the therapeutic benefits of the region’s natural mineral springs. The celebration continues all weekend with wellness seminars\, experiential classes\, and exclusive spa day passes featuring soaking pools\, saunas\, and signature treatments. \nTickets are limited and available on Eventbrite. All guests will check in at Cabot’s Pueblo Museum. VIP ticket holders and media will receive a complimentary Spa Tour robe.
URL:https://healthylivingandtravel.com/calendar/desert-hot-springs-spa-tour-wellness-weekend/2030-01-31/
CATEGORIES:Wellness
ATTACH;FMTTYPE=image/jpeg:https://healthylivingandtravel.com/wp-content/uploads/2024/05/Azure-Palm-Hot-Springs-Spas-of-America.jpeg
END:VEVENT
END:VCALENDAR