BEGIN:VCALENDAR
VERSION:2.0
PRODID:-//Healthy Living + Travel - ECPv6.15.20//NONSGML v1.0//EN
CALSCALE:GREGORIAN
METHOD:PUBLISH
X-ORIGINAL-URL:https://healthylivingandtravel.com
X-WR-CALDESC:Events for Healthy Living + Travel
REFRESH-INTERVAL;VALUE=DURATION:PT1H
X-Robots-Tag:noindex
X-PUBLISHED-TTL:PT1H
BEGIN:VTIMEZONE
TZID:America/Vancouver
BEGIN:DAYLIGHT
TZOFFSETFROM:-0800
TZOFFSETTO:-0700
TZNAME:PDT
DTSTART:20230312T100000
END:DAYLIGHT
BEGIN:STANDARD
TZOFFSETFROM:-0700
TZOFFSETTO:-0800
TZNAME:PST
DTSTART:20231105T090000
END:STANDARD
BEGIN:DAYLIGHT
TZOFFSETFROM:-0800
TZOFFSETTO:-0700
TZNAME:PDT
DTSTART:20240310T100000
END:DAYLIGHT
BEGIN:STANDARD
TZOFFSETFROM:-0700
TZOFFSETTO:-0800
TZNAME:PST
DTSTART:20241103T090000
END:STANDARD
BEGIN:DAYLIGHT
TZOFFSETFROM:-0800
TZOFFSETTO:-0700
TZNAME:PDT
DTSTART:20250309T100000
END:DAYLIGHT
BEGIN:STANDARD
TZOFFSETFROM:-0700
TZOFFSETTO:-0800
TZNAME:PST
DTSTART:20251102T090000
END:STANDARD
END:VTIMEZONE
BEGIN:VEVENT
DTSTART;VALUE=DATE:20241107
DTEND;VALUE=DATE:20241118
DTSTAMP:20260419T194754
CREATED:20241111T192728Z
LAST-MODIFIED:20241111T192805Z
UID:10000015-1730937600-1731887999@healthylivingandtravel.com
SUMMARY:Whistler Cornucopia
DESCRIPTION:Open your palate to fresh ideas and inspiration\, and discover one of the must-attend food and wine events in the Pacific Northwest. \nTake your taste buds to the edge of anticipation at Cornucopia in Whistler\, where food and drink are turned loose. There’s no limit to what you can explore when you open your palate to fresh ideas that are full of life and flavour. Join us in the mountains this fall\, for the ultimate celebration of bold tastes featuring 11 days of 70-plus events. \nAt Whistler Cornucopia\, experience a celebration of food + drink\, a globally known mountain resort\, and the region’s top tastemakers. With a schedule spanning 11 days and nights\, Whistler Cornucopia is one of North America’s most exciting fall food + drink festivals. \nCornucopia features 100+ events throughout November. Experience the return of lively signature events\, chef’s table luncheons\, drink seminars\, the culinary stage series\, and Whistler’s bar and restaurant events.
URL:https://healthylivingandtravel.com/calendar/whistler-cornucopia-2/
CATEGORIES:Food,Wine
ATTACH;FMTTYPE=image/jpeg:https://healthylivingandtravel.com/wp-content/uploads/2018/10/Crush-Whistler-Cornucopia-Healthy-Living-Travel.jpeg
END:VEVENT
BEGIN:VEVENT
DTSTART;VALUE=DATE:20241108
DTEND;VALUE=DATE:20241111
DTSTAMP:20260419T194754
CREATED:20240208T025743Z
LAST-MODIFIED:20241024T214126Z
UID:10000100-1731024000-1731283199@healthylivingandtravel.com
SUMMARY:Tasting Texas Food + Wine Festival
DESCRIPTION:Prepare to embark on a gastronomic journey like no other as San Antonio and Culinaria join hands once again with the prestigious James Beard Foundation to present the Tasting Texas Wine + Food Festival. This extraordinary culinary event\, set against the picturesque backdrop of La Villita in downtown San Antonio\, promises an unparalleled four-day celebration of food\, wine\, and culture\, showcasing distinguished top culinary leaders across the U.S. and Mexico\, including up-and-coming chefs from all across Texas and diverse culinary talent. Join us and experience vast culinary offerings in the Culinary Capital of Texas – San Antonio!
URL:https://healthylivingandtravel.com/calendar/tasting-texas-food-wine-festival/2024-11-08/
CATEGORIES:Food,Wine
ATTACH;FMTTYPE=image/jpeg:https://healthylivingandtravel.com/wp-content/uploads/2024/02/Culinaria-Food-Festival_-Credit-Culinaria-2-scaled-1.jpg
END:VEVENT
BEGIN:VEVENT
DTSTART;VALUE=DATE:20241115
DTEND;VALUE=DATE:20241118
DTSTAMP:20260419T194754
CREATED:20241024T222636Z
LAST-MODIFIED:20241025T134221Z
UID:10000128-1731628800-1731887999@healthylivingandtravel.com
SUMMARY:Todos Santos Wellness Fest
DESCRIPTION:Get ready for a weekend of wellness and relaxation at the first-ever Todos Santos Wellness Fest\, happening November 15-17\, 2024 in the magical town of Todos Santos\, Baja California Sur. Hosted by the Baja California Sur Tourism Trust\, Sabino MX\, and the Mexican Yoga Institute\, this three-day retreat is perfect for wellness enthusiasts of all levels. \nExplore a variety of free and ticketed workshops\, live music\, yoga classes\, and cultural experiences spread across local hotels\, restaurants\, and public spaces. You’ll have the chance to learn from world-renowned wellness experts like Ana Paula Dominguez\, MC Yogi\, Shiva Rea\, and more as they lead masterclasses\, guided meditations\, and immersive music sessions. \nWhether you’re into yoga\, breathwork\, dance\, or just want to soak in the chill vibes\, this festival offers a blend of ancient practices with modern wellness. It’s all about renewing your body and mind! \nMake your way to Todos Santos via Los Cabos or La Paz\, both just a scenic one-hour drive away. Choose from amazing accommodations like the luxurious Hotel San Cristóbal\, the adults-only Kimpton Mas Olas Resort & Spa\, or the historic Guaycura Boutique Hotel. Beyond the festival\, enjoy local delights with surfing lessons\, hiking adventures\, or indulging in top-notch dining at spots like Oystera and Jazamango. \nIt’s a weekend you won’t want to miss—relax\, explore\, and feel totally revitalized!
URL:https://healthylivingandtravel.com/calendar/todos-santos-wellness-fest/2024-11-15/
CATEGORIES:Wellness
ATTACH;FMTTYPE=image/jpeg:https://healthylivingandtravel.com/wp-content/uploads/2024/10/Healthy-Living-Travel-Todo-Santos.jpeg
END:VEVENT
BEGIN:VEVENT
DTSTART;VALUE=DATE:20241121
DTEND;VALUE=DATE:20241125
DTSTAMP:20260419T194754
CREATED:20240409T214443Z
LAST-MODIFIED:20240422T210100Z
UID:10000058-1732147200-1732492799@healthylivingandtravel.com
SUMMARY:Formula 1 Heineken Silver Las Vegas Grand Prix
DESCRIPTION:The world’s greatest racing spectacle and sports and entertainment capital collide at the Formula 1 Heineken Silver Las Vegas Grand Prix. The race will light up the Las Vegas Strip on November 21-24\, 2024\, for an unforgettable race cutting right through the neon heart of the city. The Las Vegas Grand Prix’s 3.8-mile track will weave past world-famous landmarks\, casinos\, and hotels as drivers push their luck with speeds up to 212 mph.
URL:https://healthylivingandtravel.com/calendar/formula-1-heineken-silver-las-vegas-grand-prix/
CATEGORIES:Automobile
ATTACH;FMTTYPE=image/jpeg:https://healthylivingandtravel.com/wp-content/uploads/2022/12/FORMULA-1-HEINEKEN-SILVER-LAS-VEGAS-GRAND-PRIX-takes-over-The-Strip-November-16–18-2023-Healthy-Living-Travel.jpeg
END:VEVENT
END:VCALENDAR