BEGIN:VCALENDAR
VERSION:2.0
PRODID:-//Healthy Living + Travel - ECPv6.15.20//NONSGML v1.0//EN
CALSCALE:GREGORIAN
METHOD:PUBLISH
X-ORIGINAL-URL:https://healthylivingandtravel.com
X-WR-CALDESC:Events for Healthy Living + Travel
REFRESH-INTERVAL;VALUE=DURATION:PT1H
X-Robots-Tag:noindex
X-PUBLISHED-TTL:PT1H
BEGIN:VTIMEZONE
TZID:America/Vancouver
BEGIN:DAYLIGHT
TZOFFSETFROM:-0800
TZOFFSETTO:-0700
TZNAME:PDT
DTSTART:20240310T100000
END:DAYLIGHT
BEGIN:STANDARD
TZOFFSETFROM:-0700
TZOFFSETTO:-0800
TZNAME:PST
DTSTART:20241103T090000
END:STANDARD
BEGIN:DAYLIGHT
TZOFFSETFROM:-0800
TZOFFSETTO:-0700
TZNAME:PDT
DTSTART:20250309T100000
END:DAYLIGHT
BEGIN:STANDARD
TZOFFSETFROM:-0700
TZOFFSETTO:-0800
TZNAME:PST
DTSTART:20251102T090000
END:STANDARD
BEGIN:DAYLIGHT
TZOFFSETFROM:-0800
TZOFFSETTO:-0700
TZNAME:PDT
DTSTART:20260308T100000
END:DAYLIGHT
BEGIN:STANDARD
TZOFFSETFROM:-0700
TZOFFSETTO:-0800
TZNAME:PST
DTSTART:20261101T090000
END:STANDARD
END:VTIMEZONE
BEGIN:VEVENT
DTSTART;VALUE=DATE:20251114
DTEND;VALUE=DATE:20251117
DTSTAMP:20260419T083132
CREATED:20240208T025743Z
LAST-MODIFIED:20241024T214126Z
UID:10000101-1763078400-1763337599@healthylivingandtravel.com
SUMMARY:Tasting Texas Food + Wine Festival
DESCRIPTION:Prepare to embark on a gastronomic journey like no other as San Antonio and Culinaria join hands once again with the prestigious James Beard Foundation to present the Tasting Texas Wine + Food Festival. This extraordinary culinary event\, set against the picturesque backdrop of La Villita in downtown San Antonio\, promises an unparalleled four-day celebration of food\, wine\, and culture\, showcasing distinguished top culinary leaders across the U.S. and Mexico\, including up-and-coming chefs from all across Texas and diverse culinary talent. Join us and experience vast culinary offerings in the Culinary Capital of Texas – San Antonio!
URL:https://healthylivingandtravel.com/calendar/tasting-texas-food-wine-festival/2025-11-14/
CATEGORIES:Food,Wine
ATTACH;FMTTYPE=image/jpeg:https://healthylivingandtravel.com/wp-content/uploads/2024/02/Culinaria-Food-Festival_-Credit-Culinaria-2-scaled-1.jpg
END:VEVENT
BEGIN:VEVENT
DTSTART;VALUE=DATE:20251121
DTEND;VALUE=DATE:20251124
DTSTAMP:20260419T083132
CREATED:20241024T222636Z
LAST-MODIFIED:20241025T134221Z
UID:10000129-1763683200-1763942399@healthylivingandtravel.com
SUMMARY:Todos Santos Wellness Fest
DESCRIPTION:Get ready for a weekend of wellness and relaxation at the first-ever Todos Santos Wellness Fest\, happening November 15-17\, 2024 in the magical town of Todos Santos\, Baja California Sur. Hosted by the Baja California Sur Tourism Trust\, Sabino MX\, and the Mexican Yoga Institute\, this three-day retreat is perfect for wellness enthusiasts of all levels. \nExplore a variety of free and ticketed workshops\, live music\, yoga classes\, and cultural experiences spread across local hotels\, restaurants\, and public spaces. You’ll have the chance to learn from world-renowned wellness experts like Ana Paula Dominguez\, MC Yogi\, Shiva Rea\, and more as they lead masterclasses\, guided meditations\, and immersive music sessions. \nWhether you’re into yoga\, breathwork\, dance\, or just want to soak in the chill vibes\, this festival offers a blend of ancient practices with modern wellness. It’s all about renewing your body and mind! \nMake your way to Todos Santos via Los Cabos or La Paz\, both just a scenic one-hour drive away. Choose from amazing accommodations like the luxurious Hotel San Cristóbal\, the adults-only Kimpton Mas Olas Resort & Spa\, or the historic Guaycura Boutique Hotel. Beyond the festival\, enjoy local delights with surfing lessons\, hiking adventures\, or indulging in top-notch dining at spots like Oystera and Jazamango. \nIt’s a weekend you won’t want to miss—relax\, explore\, and feel totally revitalized!
URL:https://healthylivingandtravel.com/calendar/todos-santos-wellness-fest/2025-11-21/
CATEGORIES:Wellness
ATTACH;FMTTYPE=image/jpeg:https://healthylivingandtravel.com/wp-content/uploads/2024/10/Healthy-Living-Travel-Todo-Santos.jpeg
END:VEVENT
BEGIN:VEVENT
DTSTART;VALUE=DATE:20251128
DTEND;VALUE=DATE:20251202
DTSTAMP:20260419T083132
CREATED:20250611T181602Z
LAST-MODIFIED:20250717T174701Z
UID:10000137-1764288000-1764633599@healthylivingandtravel.com
SUMMARY:Monte-Carlo Gastronomie
DESCRIPTION:Monte-Carlo Gastronomie invites you to experience and purchase a curated selection of fine foods just in time for the festive season. Featuring over 100 producers from France\, Italy\, and across Europe\, this event spans 2\,500 m² in a sophisticated\, welcoming setting. \nOur event is proudly supported by prestigious associations\, including Monaco Goût et Saveurs\, the Association des Maîtres d’Hôtel Italiens et Français\, the Association Monégasque des Sommeliers\, Slow Food Riviera Côte d’Azur\, and the Association de l’Industrie Hôtelière Monégasque. \nDiscover an exquisite range of authentic products from the French\, Italian\, and European regions: wines\, champagnes\, cognac\, armagnac\, liqueurs\, salmon\, foie gras\, seafood\, truffles\, caviar\, chocolates\, cheeses\, cured meats\, organic goods\, and jams. You’ll also find elegant tableware\, kitchenware\, and unique gift ideas\, making this event a true showcase of style and refinement. \nHosted by Caroli Com\, a leader in organizing public trade shows in the Principality and the Côte d’Azur for over 25 years\, Monte-Carlo Gastronomie is a delightful celebration of culinary passion—year after year.
URL:https://healthylivingandtravel.com/calendar/monte-carlo-gastronomie-2/
CATEGORIES:Food,Wine
ATTACH;FMTTYPE=image/jpeg:https://healthylivingandtravel.com/wp-content/uploads/2024/11/Monte-Carlo-Gastronomie-Healthy-Living-Travel.jpeg
END:VEVENT
END:VCALENDAR