BEGIN:VCALENDAR
VERSION:2.0
PRODID:-//Healthy Living + Travel - ECPv6.15.20//NONSGML v1.0//EN
CALSCALE:GREGORIAN
METHOD:PUBLISH
X-WR-CALNAME:Healthy Living + Travel
X-ORIGINAL-URL:https://healthylivingandtravel.com
X-WR-CALDESC:Events for Healthy Living + Travel
REFRESH-INTERVAL;VALUE=DURATION:PT1H
X-Robots-Tag:noindex
X-PUBLISHED-TTL:PT1H
BEGIN:VTIMEZONE
TZID:America/Vancouver
BEGIN:DAYLIGHT
TZOFFSETFROM:-0800
TZOFFSETTO:-0700
TZNAME:PDT
DTSTART:20240310T100000
END:DAYLIGHT
BEGIN:STANDARD
TZOFFSETFROM:-0700
TZOFFSETTO:-0800
TZNAME:PST
DTSTART:20241103T090000
END:STANDARD
BEGIN:DAYLIGHT
TZOFFSETFROM:-0800
TZOFFSETTO:-0700
TZNAME:PDT
DTSTART:20250309T100000
END:DAYLIGHT
BEGIN:STANDARD
TZOFFSETFROM:-0700
TZOFFSETTO:-0800
TZNAME:PST
DTSTART:20251102T090000
END:STANDARD
BEGIN:DAYLIGHT
TZOFFSETFROM:-0800
TZOFFSETTO:-0700
TZNAME:PDT
DTSTART:20260308T100000
END:DAYLIGHT
BEGIN:STANDARD
TZOFFSETFROM:-0700
TZOFFSETTO:-0800
TZNAME:PST
DTSTART:20261101T090000
END:STANDARD
END:VTIMEZONE
BEGIN:VEVENT
DTSTART;VALUE=DATE:20251128
DTEND;VALUE=DATE:20251202
DTSTAMP:20260419T095156
CREATED:20250611T181602Z
LAST-MODIFIED:20250717T174701Z
UID:10000137-1764288000-1764633599@healthylivingandtravel.com
SUMMARY:Monte-Carlo Gastronomie
DESCRIPTION:Monte-Carlo Gastronomie invites you to experience and purchase a curated selection of fine foods just in time for the festive season. Featuring over 100 producers from France\, Italy\, and across Europe\, this event spans 2\,500 m² in a sophisticated\, welcoming setting. \nOur event is proudly supported by prestigious associations\, including Monaco Goût et Saveurs\, the Association des Maîtres d’Hôtel Italiens et Français\, the Association Monégasque des Sommeliers\, Slow Food Riviera Côte d’Azur\, and the Association de l’Industrie Hôtelière Monégasque. \nDiscover an exquisite range of authentic products from the French\, Italian\, and European regions: wines\, champagnes\, cognac\, armagnac\, liqueurs\, salmon\, foie gras\, seafood\, truffles\, caviar\, chocolates\, cheeses\, cured meats\, organic goods\, and jams. You’ll also find elegant tableware\, kitchenware\, and unique gift ideas\, making this event a true showcase of style and refinement. \nHosted by Caroli Com\, a leader in organizing public trade shows in the Principality and the Côte d’Azur for over 25 years\, Monte-Carlo Gastronomie is a delightful celebration of culinary passion—year after year.
URL:https://healthylivingandtravel.com/calendar/monte-carlo-gastronomie-2/
CATEGORIES:Food,Wine
ATTACH;FMTTYPE=image/jpeg:https://healthylivingandtravel.com/wp-content/uploads/2024/11/Monte-Carlo-Gastronomie-Healthy-Living-Travel.jpeg
END:VEVENT
BEGIN:VEVENT
DTSTART;VALUE=DATE:20251203
DTEND;VALUE=DATE:20251208
DTSTAMP:20260419T095156
CREATED:20241113T180159Z
LAST-MODIFIED:20241113T191701Z
UID:10000149-1764720000-1765151999@healthylivingandtravel.com
SUMMARY:Whistler Film Festival + Content Summit
DESCRIPTION:Get ready for the thrilling 24th edition of the Whistler Film Festival + Content Summit (WFF24) in beautiful Whistler\, British Columbia! \nA celebration of creativity and community\, WFF24 brings together ski enthusiasts and storytellers\, dealmakers and game-changers\, emerging filmmakers\, and acclaimed directors alike. \nThis year’s lineup promises action and inspiration with exclusive film premieres\, insightful industry panels\, talent development programs\, intimate meet-and-greets\, lively parties\, and appearances from critically-acclaimed actors and directors. \nWith Whistler’s breathtaking mountain setting\, the festival offers the perfect backdrop for thought-provoking discussions\, powerful networking\, and unforgettable moments in the film and screen industry. In addition to festival events\, attendees can enjoy the world-class ski slopes\, indulge in Michelin-star dining\, and unwind in hot tubs under the frosty mountain air. \n 
URL:https://healthylivingandtravel.com/calendar/whistler-film-festival-and-content-summit/2025-12-03/
CATEGORIES:Film
ATTACH;FMTTYPE=image/jpeg:https://healthylivingandtravel.com/wp-content/uploads/2024/11/Whistler-Film-Festival-Content-Summit-Healthy-Living-Travel.jpeg
END:VEVENT
BEGIN:VEVENT
DTSTART;VALUE=DATE:20251205
DTEND;VALUE=DATE:20251208
DTSTAMP:20260419T095156
CREATED:20230410T204025Z
LAST-MODIFIED:20240618T162724Z
UID:10000062-1764892800-1765151999@healthylivingandtravel.com
SUMMARY:Art Basel Miami Beach
DESCRIPTION:Art Basel Miami Beach\, occurring from December 6th to 8th\, 2024\, stands as a pinnacle event within the American art scene\, meticulously orchestrated and eagerly anticipated. With approximately half of its galleries hailing from the United States or Latin America\, it serves as a significant platform for dealers from regions such as Brazil\, Argentina\, and Mexico to engage with a global audience of buyers. \nThe American showcase at Art Basel features leading galleries spanning North America\, Latin America\, Europe\, Asia\, and Africa\, presenting a captivating array of Modern and contemporary art. Here\, visitors encounter the works of established masters alongside those of emerging talents\, spanning mediums such as paintings\, sculptures\, installations\, photographs\, films\, and editioned pieces of the utmost caliber. \nBeyond the confines of the main exhibition hall\, the event extends its artistic reach into the urban landscape. Ambitious large-scale artworks\, immersive films\, and captivating performances spill out into nearby Collins Park and SoundScape Park\, enriching the city with an outdoor gallery experience that transcends traditional confines. \nFor an enhanced Miami Beach experience\, stay at our preferred resort partner\, Carillon Miami Wellness Resort.
URL:https://healthylivingandtravel.com/calendar/art-basel-miami-beach/2025-12-05/
CATEGORIES:Art
ATTACH;FMTTYPE=image/jpeg:https://healthylivingandtravel.com/wp-content/uploads/2016/05/Art-Basel-Miami-Beach-Healthy-Living-Travel-1.jpg
END:VEVENT
END:VCALENDAR